BEGIN:VCALENDAR
VERSION:2.0
PRODID:-//TheRecollective - ECPv6.15.20//NONSGML v1.0//EN
CALSCALE:GREGORIAN
METHOD:PUBLISH
X-WR-CALNAME:TheRecollective
X-ORIGINAL-URL:https://therecollective.co
X-WR-CALDESC:Events for TheRecollective
REFRESH-INTERVAL;VALUE=DURATION:PT1H
X-Robots-Tag:noindex
X-PUBLISHED-TTL:PT1H
BEGIN:VTIMEZONE
TZID:UTC
BEGIN:STANDARD
TZOFFSETFROM:+0000
TZOFFSETTO:+0000
TZNAME:UTC
DTSTART:20230101T000000
END:STANDARD
END:VTIMEZONE
BEGIN:VEVENT
DTSTART;VALUE=DATE:20241201
DTEND;VALUE=DATE:20250101
DTSTAMP:20260424T154323
CREATED:20240505T170648Z
LAST-MODIFIED:20240908T233851Z
UID:2207-1733011200-1735689599@therecollective.co
SUMMARY:Bulbs
DESCRIPTION:December is a Bulbs month.
URL:https://therecollective.co/event/bulbsq424/
ATTACH;FMTTYPE=image/png:https://therecollective.co/wp-content/uploads/2024/03/Photo-2_Light-Bulbs.png
END:VEVENT
BEGIN:VEVENT
DTSTART;VALUE=DATE:20241201
DTEND;VALUE=DATE:20250101
DTSTAMP:20260424T154323
CREATED:20240815T183627Z
LAST-MODIFIED:20240908T234551Z
UID:2591-1733011200-1735689599@therecollective.co
SUMMARY:ReCo Pick: Used Kitchenware with Bonus Used Toys & More December 2024
DESCRIPTION:Instructions for the December ReCo Pick\nMain Material in the ReCo Pick Bag: Used Kitchenware – Click to Learn More \nBonus Item #1 (Bring Your Own Bag – 30 gallons or smaller): Used Toys – Click to Learn More \nBonus Item #2 (Bring Your Own Bag – grocery size or smaller): Wrapped Candy – Click to Learn More \nBonus Item #3 (Set beside your waterproof black bag): Yard Signs – Click to Learn More \nREMINDER: Yes\, you can share your bag capacity! Your friends\, family\, and neighbors can add materials to your ReCo bags. The one exception is Batteries and Lightbulbs\, as these are the most complex items for our team to manage. Feel free to share your bag capacity for Plastic Film\, Textiles\, Styrofoam\, ReCo Picks\, and more! Sharing is a great idea\, especially for smaller households. It helps ensure that the most materials are being recycled per pickup\, which benefits everyone and the environment! \nReCo Picks are in addition to all the core materials we collect on a monthly basis. \nNeed help or have a question just email help@therecollective.co
URL:https://therecollective.co/event/used-kitchenware-with-bonus-used-toys/
ATTACH;FMTTYPE=image/png:https://therecollective.co/wp-content/uploads/2024/08/Kitchenware.png
END:VEVENT
END:VCALENDAR