BEGIN:VCALENDAR
VERSION:2.0
PRODID:-//TheRecollective - ECPv6.15.20//NONSGML v1.0//EN
CALSCALE:GREGORIAN
METHOD:PUBLISH
X-ORIGINAL-URL:https://therecollective.co
X-WR-CALDESC:Events for TheRecollective
REFRESH-INTERVAL;VALUE=DURATION:PT1H
X-Robots-Tag:noindex
X-PUBLISHED-TTL:PT1H
BEGIN:VTIMEZONE
TZID:UTC
BEGIN:STANDARD
TZOFFSETFROM:+0000
TZOFFSETTO:+0000
TZNAME:UTC
DTSTART:20250101T000000
END:STANDARD
END:VTIMEZONE
BEGIN:VEVENT
DTSTART;VALUE=DATE:20260901
DTEND;VALUE=DATE:20261001
DTSTAMP:20260423T205950
CREATED:20260403T191053Z
LAST-MODIFIED:20260403T191114Z
UID:4642-1788220800-1790812799@therecollective.co
SUMMARY:ReCo Pick: Art & Office Supplies with Bonus Jewelry\, Eyeglasses\, and Lanyards September 2026
DESCRIPTION:Instructions for the September ReCo Pick\nReCo Pick Bag: Art & Office Supplies\n\n\nPlease Art & Office Supplies in the ReCo Pick Bag.\nLearn more →\n\n1-Bonus Item (Bring Your Own Bag – Grocery Bag Size): Jewelry\n\nPlace Jewelry in your own bag and include it with your pickup.\nLearn more →\n\n2-Bonus Item (Bring Your Own Bag – Grocery Bag Size): Eyeglasses\n\nPlace Eyeglasses in your own bag and include it with your pickup.\nLearn more →\n\n3-Bonus Item (Bring Your Own Bag – Grocery Bag Size): Lanyards & name tags\n\nPlace Lanyards in your own bag and include it with your pickup.\nLearn more →\n\nREMINDER: Yes\, you can share your bag capacity! Your friends\, family\, and neighbors can add materials to your ReCo bags. The one exception is Batteries and Lightbulbs\, as these are the most complex items for our team to manage. Feel free to share your bag capacity for Plastic Film\, Textiles\, Styrofoam\, ReCo Picks\, and more! Sharing is a great idea\, especially for smaller households. It helps ensure that the most materials are being recycled per pickup\, which benefits everyone and the environment! ReCo Picks are in addition to all the core hard-to-recycle materials we collect on a monthly basis. Download our digital reference guides Need help or have a question\, just email help@therecollective.co
URL:https://therecollective.co/event/reco-pick-art-office-supplies-with-bonus-jewelry-eyeglasses-and-lanyards-september-2026/
ATTACH;FMTTYPE=image/png:https://therecollective.co/wp-content/uploads/2024/08/T.png
END:VEVENT
END:VCALENDAR