BEGIN:VCALENDAR
VERSION:2.0
PRODID:-//TheRecollective - ECPv6.15.20//NONSGML v1.0//EN
CALSCALE:GREGORIAN
METHOD:PUBLISH
X-WR-CALNAME:TheRecollective
X-ORIGINAL-URL:https://therecollective.co
X-WR-CALDESC:Events for TheRecollective
REFRESH-INTERVAL;VALUE=DURATION:PT1H
X-Robots-Tag:noindex
X-PUBLISHED-TTL:PT1H
BEGIN:VTIMEZONE
TZID:UTC
BEGIN:STANDARD
TZOFFSETFROM:+0000
TZOFFSETTO:+0000
TZNAME:UTC
DTSTART:20240101T000000
END:STANDARD
END:VTIMEZONE
BEGIN:VEVENT
DTSTART;VALUE=DATE:20250101
DTEND;VALUE=DATE:20260101
DTSTAMP:20260423T225211
CREATED:20250508T202500Z
LAST-MODIFIED:20250508T202606Z
UID:3725-1735689600-1767225599@therecollective.co
SUMMARY:Don’t Keep Recycling a Secret—Share the Love
DESCRIPTION:At The ReCollective\, community is everything. Our members make a huge impact by recycling materials like plastic film\, batteries\, textiles\, and composting food scraps—helping keep thousands of pounds of waste out of Triangle-area landfills every month. \nWe need your help to spread the word! Our “Give $10\, Get $10” referral program makes it easy for you to help your friends and neighbors recycle more while earning rewards for yourself. \nHow Does it Work?\nIt’s simple: \n\nYou Give your friends and neighbors $10 off their first month when they sign up.\nYou Get $10 in account credit for every friend who becomes a member. There’s no limit to how many friends you can refer!\n\nThere’s no limit—so the more you refer\, the more you earn! \n\n\n\n\n\nHow to Start Referring:\n\nLog in to your member dashboard.\nGrab your unique referral link in the dropdown top menu bar.\nShare it via text\, email\, social media\, or neighborhood groups.\n\nSample Messages to Share:\nSocial Media: \n“I’ve been using The ReCollective to recycle and compost materials that don’t fit in the curbside bin\, and it’s awesome! Join me and get $10 off your first month. Use my referral link: [Your Referral Link] ♻️🌿” \nText Message: \n“Hey! I started using The ReCollective to recycle stuff like plastic film\, batteries\, and more. Thought you’d be interested—here’s $10 off your first month: [Your Referral Link]” \nEmail or Community Post: \n“Looking for an easy way to recycle and compost beyond what our city picks up? I’ve been using The ReCollective and it’s made a big difference at our house. They pick up hard-to-recycle items monthly right from your doorstep. Use my referral link to get $10 off your first month: [Your Referral Link].” \nWhy Share?\nEvery referral makes a real difference: \n\nYou help neighbors simplify recycling and composting.\nYou reduce waste locally and support sustainable living.\nYou earn savings on your own membership!
URL:https://therecollective.co/event/dont-keep-recycling-a-secret-share-the-love/
ATTACH;FMTTYPE=image/png:https://therecollective.co/wp-content/uploads/2025/05/Referral-2.png
END:VEVENT
BEGIN:VEVENT
DTSTART;VALUE=DATE:20251201
DTEND;VALUE=DATE:20260101
DTSTAMP:20260423T225211
CREATED:20240908T235425Z
LAST-MODIFIED:20240908T235425Z
UID:3100-1764547200-1767225599@therecollective.co
SUMMARY:Light Bulbs
DESCRIPTION:Light Bulbs go in your Batteries/Bulbs Bag.
URL:https://therecollective.co/event/light-bulbs/
ATTACH;FMTTYPE=image/png:https://therecollective.co/wp-content/uploads/2024/03/Photo-2_Light-Bulbs.png
END:VEVENT
BEGIN:VEVENT
DTSTART;VALUE=DATE:20251201
DTEND;VALUE=DATE:20260101
DTSTAMP:20260423T225211
CREATED:20250412T173915Z
LAST-MODIFIED:20251114T012659Z
UID:3698-1764547200-1767225599@therecollective.co
SUMMARY:ReCo Pick: Used Kitchenware with Bonus Used Toys & More December 2025
DESCRIPTION:Instructions for the December ReCo Pick\nMain Material in the ReCo Pick Bag: Used Kitchenware – Click to Learn More \nBonus Item #1 (Bring Your Own Bag – 30 gallons or smaller): Used Toys – Click to Learn More \nBonus Item #2 (Bring Your Own Bag – grocery size or smaller): Wrapped Candy – Click to Learn More \nBonus Item #3 (Bring Your Own Bag – grocery size or smaller): New Update. Please read below! We’re adding a community collection this December to support local families in need\, with all supplies going to Feed Durham. This collection wasn’t previously on the calendar\, but we wanted to make room for more ways to give back this season. \n✅ Clean winter essentials – coats\, blankets\, hats\, scarves\, gloves\n✅ Non-perishable food\n✅ New baby supplies – formula\, diapers\, wipes\n✅ Sealed over-the-counter medicines \nPlease place these additional items in a separate grocery-sized bag (or smaller) beside or inside your larger black ReCollective bag for pickup. \nREMINDER: Yes\, you can share your bag capacity! Your friends\, family\, and neighbors can add materials to your ReCo bags. The one exception is Batteries and Lightbulbs\, as these are the most complex items for our team to manage. Feel free to share your bag capacity for Plastic Film\, Textiles\, Styrofoam\, ReCo Picks\, and more! Sharing is a great idea\, especially for smaller households. It helps ensure that the most materials are being recycled per pickup\, which benefits everyone and the environment! \nReCo Picks are in addition to all the core materials we collect on a monthly basis. \nNeed help or have a question just email help@therecollective.co
URL:https://therecollective.co/event/reco-pick-used-kitchenware-with-bonus-used-toys-more-december-2025/
ATTACH;FMTTYPE=image/png:https://therecollective.co/wp-content/uploads/2024/08/Kitchenware.png
END:VEVENT
BEGIN:VEVENT
DTSTART;VALUE=DATE:20260101
DTEND;VALUE=DATE:20260201
DTSTAMP:20260423T225211
CREATED:20250511T145547Z
LAST-MODIFIED:20260110T221445Z
UID:3730-1767225600-1769903999@therecollective.co
SUMMARY:ReCo Pick: Used Seasonal Decorations with Bonus Clothing Hangers January 2026
DESCRIPTION:Instructions for the January ReCo Pick\nReCo Pick Bag : Used Seasonal Decorations\n\nPlace used seasonal decorations directly in your ReCo Pick bag.\nLearn more about accepted seasonal decorations →\n\nBonus Item (Bring Your Own Bag): Clothing Hangers\n\nUse your own bag\nBag must be 13 gallons or smaller\nPlace this bag inside your black waterproof bag\nLearn more about recycling clothing hangers →\n\nREMINDER: Yes\, you can share your bag capacity! Your friends\, family\, and neighbors can add materials to your ReCo bags. The one exception is Batteries and Lightbulbs\, as these are the most complex items for our team to manage. Feel free to share your bag capacity for Plastic Film\, Textiles\, Styrofoam\, ReCo Picks\, and more! Sharing is a great idea\, especially for smaller households. It helps ensure that the most materials are being recycled per pickup\, which benefits everyone and the environment! \nReCo Picks are in addition to all the core hard-to-recycle materials we collect on a monthly basis. \nNeed help or have a question\, just email help@therecollective.co
URL:https://therecollective.co/event/reco-pick-used-seasonal-decorations-with-bonus-clothing-hangers-january-2026/
ATTACH;FMTTYPE=image/png:https://therecollective.co/wp-content/uploads/2024/08/Seasonal-Decorations-Photo.png
END:VEVENT
BEGIN:VEVENT
DTSTART;VALUE=DATE:20260101
DTEND;VALUE=DATE:20260301
DTSTAMP:20260423T225211
CREATED:20250906T095821Z
LAST-MODIFIED:20250906T095821Z
UID:4101-1767225600-1772323199@therecollective.co
SUMMARY:Batteries
DESCRIPTION:Batteries go in your Batteries/Bulbs Bag
URL:https://therecollective.co/event/batteries-2/
ATTACH;FMTTYPE=image/png:https://therecollective.co/wp-content/uploads/2024/04/ReCo_Home-Pickup-of-Batteries-for-Recycling.png
END:VEVENT
BEGIN:VEVENT
DTSTART;VALUE=DATE:20260201
DTEND;VALUE=DATE:20260301
DTSTAMP:20260423T225211
CREATED:20250623T163200Z
LAST-MODIFIED:20260204T122018Z
UID:3814-1769904000-1772323199@therecollective.co
SUMMARY:ReCo Pick: Scrap Metal with Bonus Reusable Totes/Bags February 2026
DESCRIPTION:Instructions for the February ReCo Pick\nReCo Pick Bag: Scrap Metal\n\nPlace scrap metal directly in your ReCo Pick bag.\nClick to learn more about accepted scrap metal →\n\nBonus Item 1 (Bring Your Own Bag): Reusable Totes / Bags\n\nTake one reusable bag and use it to neatly stuff the rest of the bags inside.\nPlace this bag inside your black waterproof bag.\nClick to learn more about reusable totes and bags →\n\nBonus Item 2 (Bring Your Own Bag): Unopened Hygiene Products\n\nOwn bag of grocery size or smaller\nPlace this bag inside your black waterproof bag.\nClick to learn more about hygiene products →\n\nREMINDER: Yes\, you can share your bag capacity! Your friends\, family\, and neighbors can add materials to your ReCo bags. The one exception is Batteries and Lightbulbs\, as these are the most complex items for our team to manage. Feel free to share your bag capacity for Plastic Film\, Textiles\, Styrofoam\, ReCo Picks\, and more! Sharing is a great idea\, especially for smaller households. It helps ensure that the most materials are being recycled per pickup\, which benefits everyone and the environment! \nReCo Picks are in addition to all the core hard-to-recycle materials we collect on a monthly basis. \nDownload our digital reference guides! \nNeed help or have a question\, just email help@therecollective.co
URL:https://therecollective.co/event/reco-pick-scrap-metal-with-bonus-reusable-totes-bags-february-2026/
ATTACH;FMTTYPE=image/png:https://therecollective.co/wp-content/uploads/2024/10/Scrap-Metal-Recycling.png
END:VEVENT
BEGIN:VEVENT
DTSTART;VALUE=DATE:20260301
DTEND;VALUE=DATE:20260401
DTSTAMP:20260423T225211
CREATED:20250906T095131Z
LAST-MODIFIED:20260204T122306Z
UID:4097-1772323200-1775001599@therecollective.co
SUMMARY:ReCo Pick: Books and Paper Bags March 2026
DESCRIPTION:Instructions for the March ReCo Pick\nReCo Pick Bag: Books\n\nPlace books directly in your ReCo Pick bag.\nLearn more about accepted books →\n\nBonus Item (Bring Your Own Stack): Paper Bags\n\nStack paper bags neatly\, up to 8 inches tall.\nPlace the stack inside your black waterproof bag for collection.\nLearn more about recycling paper bags →\n\nREMINDER: Yes\, you can share your bag capacity! Your friends\, family\, and neighbors can add materials to your ReCo bags. The one exception is Batteries and Lightbulbs\, as these are the most complex items for our team to manage. Feel free to share your bag capacity for Plastic Film\, Textiles\, Styrofoam\, ReCo Picks\, and more! Sharing is a great idea\, especially for smaller households. It helps ensure that the most materials are being recycled per pickup\, which benefits everyone and the environment! \nReCo Picks are in addition to all the core hard-to-recycle materials we collect on a monthly basis. \nDownload our digital reference guides. \nNeed help or have a question\, just email help@therecollective.co
URL:https://therecollective.co/event/reco-pick-books-and-paper-bags-march-2026/
ATTACH;FMTTYPE=image/png:https://therecollective.co/wp-content/uploads/2024/11/recycle-books-1.png
END:VEVENT
BEGIN:VEVENT
DTSTART;VALUE=DATE:20260301
DTEND;VALUE=DATE:20260401
DTSTAMP:20260423T225211
CREATED:20250906T100112Z
LAST-MODIFIED:20250906T100112Z
UID:4103-1772323200-1775001599@therecollective.co
SUMMARY:Light Bulbs
DESCRIPTION:Light Bulbs go in your Batteries/Bulbs Bag.
URL:https://therecollective.co/event/bulbs-march-2026/
ATTACH;FMTTYPE=image/png:https://therecollective.co/wp-content/uploads/2024/03/Photo-2_Light-Bulbs.png
END:VEVENT
BEGIN:VEVENT
DTSTART;VALUE=DATE:20260401
DTEND;VALUE=DATE:20260501
DTSTAMP:20260423T225211
CREATED:20250906T095454Z
LAST-MODIFIED:20260204T122233Z
UID:4099-1775001600-1777593599@therecollective.co
SUMMARY:ReCo Pick: Electronics with Bonus Wine Corks & Metal Bottle Caps April 2026
DESCRIPTION:Instructions for the April ReCo Pick\nReCo Pick Bag: Electronics\n\nPlace electronics directly in your ReCo Pick bag.\nLearn more about accepted electronics →\n\nBonus Item #1 (Bring Your Own Bag): Metal Bottle Caps\n\nUse your own bag\, grocery size bag or smaller.\nPlace this bag inside your black waterproof bag.\nLearn more about recycling metal bottle caps →\n\nBonus Item #2 (Bring Your Own Bag): Wine Corks\n\nUse your own bag\, grocery size bag or smaller.\nPlace this bag inside your black waterproof bag.\nLearn more about recycling wine corks →\n\nREMINDER: Yes\, you can share your bag capacity! Your friends\, family\, and neighbors can add materials to your ReCo bags. The one exception is Batteries and Lightbulbs\, as these are the most complex items for our team to manage. Feel free to share your bag capacity for Plastic Film\, Textiles\, Styrofoam\, ReCo Picks\, and more! Sharing is a great idea\, especially for smaller households. It helps ensure that the most materials are being recycled per pickup\, which benefits everyone and the environment! \nReCo Picks are in addition to all the core hard-to-recycle materials we collect on a monthly basis. \nDownload our digital reference guides. \nNeed help or have a question\, just email help@therecollective.co
URL:https://therecollective.co/event/reco-pick-electronics-with-bonus-wine-corks-metal-bottle-caps-april-2026/
ATTACH;FMTTYPE=image/jpeg:https://therecollective.co/wp-content/uploads/2024/08/electronics-recycling.jpg
END:VEVENT
BEGIN:VEVENT
DTSTART;VALUE=DATE:20260401
DTEND;VALUE=DATE:20260601
DTSTAMP:20260423T225211
CREATED:20250906T100359Z
LAST-MODIFIED:20250906T100359Z
UID:4105-1775001600-1780271999@therecollective.co
SUMMARY:Batteries
DESCRIPTION:Batteries go in your Batteries/Bulbs Bag
URL:https://therecollective.co/event/batteries-3/
ATTACH;FMTTYPE=image/png:https://therecollective.co/wp-content/uploads/2024/03/Photo-4_Batteries.png
END:VEVENT
BEGIN:VEVENT
DTSTART;VALUE=DATE:20260501
DTEND;VALUE=DATE:20260601
DTSTAMP:20260423T225211
CREATED:20251114T013011Z
LAST-MODIFIED:20260204T122207Z
UID:4237-1777593600-1780271999@therecollective.co
SUMMARY:ReCo Pick: Household Tools with Bonus Mesh Produce Bags May 2026
DESCRIPTION:Instructions for the May ReCo Pick\nReCo Pick Bag: Household Tools\n\nPlace household tools directly in your ReCo Pick bag.\nLearn more about accepted household tools →\n\n➕ Bonus Item #1 (Bring Your Own Bag): Plastic Mesh Produce Bags\n\nUse your own bag\, grocery size bag or smaller.\nPlace this bag inside your black waterproof bag.\nLearn more about recycling plastic mesh produce bags →\n\nREMINDER: Yes\, you can share your bag capacity! Your friends\, family\, and neighbors can add materials to your ReCo bags. The one exception is Batteries and Lightbulbs\, as these are the most complex items for our team to manage. Feel free to share your bag capacity for Plastic Film\, Textiles\, Styrofoam\, ReCo Picks\, and more! Sharing is a great idea\, especially for smaller households. It helps ensure that the most materials are being recycled per pickup\, which benefits everyone and the environment! \nReCo Picks are in addition to all the core hard-to-recycle materials we collect on a monthly basis. \nDownload our digital reference guides. \nNeed help or have a question\, just email help@therecollective.co
URL:https://therecollective.co/event/reco-pick-household-tools-with-bonus-mesh-produce-bags-may-2026/
ATTACH;FMTTYPE=image/jpeg:https://therecollective.co/wp-content/uploads/2024/04/tools-1545001.jpg
END:VEVENT
BEGIN:VEVENT
DTSTART;VALUE=DATE:20260601
DTEND;VALUE=DATE:20260701
DTSTAMP:20260423T225211
CREATED:20250906T100638Z
LAST-MODIFIED:20250906T100638Z
UID:4107-1780272000-1782863999@therecollective.co
SUMMARY:Light Bulbs
DESCRIPTION:Light Bulbs go in your Batteries/Bulbs Bag.
URL:https://therecollective.co/event/light-bulbs-june-2026/
ATTACH;FMTTYPE=image/png:https://therecollective.co/wp-content/uploads/2024/03/Photo-2_Light-Bulbs.png
END:VEVENT
BEGIN:VEVENT
DTSTART;VALUE=DATE:20260601
DTEND;VALUE=DATE:20260701
DTSTAMP:20260423T225211
CREATED:20260102T013238Z
LAST-MODIFIED:20260204T122150Z
UID:4403-1780272000-1782863999@therecollective.co
SUMMARY:ReCo Pick: Takeout Utensils with Bonus Plant Pots June 2026
DESCRIPTION:Instructions for the June ReCo Pick\nReCo Pick Bag: Takeout Utensils\n\nPlace takeout utensils directly in your ReCo Pick bag.\nLearn more about accepted takeout utensils →\n\nBonus Item #1 (Two stacks\, up to two feet tall each): Plant Pots\n\nStack plant pots neatly in two stacks\, each up to two feet tall.\nPlace the stacks next to your black waterproof bag for collection.\nLearn more about recycling plant pots →\n\nREMINDER: Yes\, you can share your bag capacity! Your friends\, family\, and neighbors can add materials to your ReCo bags. The one exception is Batteries and Lightbulbs\, as these are the most complex items for our team to manage. Feel free to share your bag capacity for Plastic Film\, Textiles\, Styrofoam\, ReCo Picks\, and more! Sharing is a great idea\, especially for smaller households. It helps ensure that the most materials are being recycled per pickup\, which benefits everyone and the environment! \nReCo Picks are in addition to all the core hard-to-recycle materials we collect on a monthly basis. \nDownload our digital reference guides. \nNeed help or have a question\, just email help@therecollective.co
URL:https://therecollective.co/event/reco-pick-takeout-utensils-with-bonus-plant-pots-june-2026/
ATTACH;FMTTYPE=image/webp:https://therecollective.co/wp-content/uploads/2023/05/takeout.webp
END:VEVENT
BEGIN:VEVENT
DTSTART;VALUE=DATE:20260701
DTEND;VALUE=DATE:20260801
DTSTAMP:20260423T225211
CREATED:20260116T010145Z
LAST-MODIFIED:20260207T191539Z
UID:4472-1782864000-1785542399@therecollective.co
SUMMARY:ReCo Pick: Recycling the Small Things with Bonus 6-pack can holders July 2026
DESCRIPTION:Instructions for the July ReCo Pick\nReCo Pick Bag: The Small Stuff (Bread Tags\, Rubber Bands\, Twist Ties\, Clothing Buttons\, Silica Packets)\n\nKeep each item type separate and place them in your ReCo Pick Bag.\nLearn more →\n\nBonus Item (Bring Your Own Bag – Grocery Bag Size): 6-Pack Can Holders\n\nPlace 6-pack can holders in your own bag and include it with your pickup.\nLearn more →\n\nREMINDER: Yes\, you can share your bag capacity! Your friends\, family\, and neighbors can add materials to your ReCo bags. The one exception is Batteries and Lightbulbs\, as these are the most complex items for our team to manage. Feel free to share your bag capacity for Plastic Film\, Textiles\, Styrofoam\, ReCo Picks\, and more! Sharing is a great idea\, especially for smaller households. It helps ensure that the most materials are being recycled per pickup\, which benefits everyone and the environment! ReCo Picks are in addition to all the core hard-to-recycle materials we collect on a monthly basis. Download our digital reference guides Need help or have a question\, just email help@therecollective.co
URL:https://therecollective.co/event/reco-pick-recycling-the-small-things-with-bonus-6-pack-can-holders-july-2026/
ATTACH;FMTTYPE=image/png:https://therecollective.co/wp-content/uploads/2025/01/Rubber-Bands.png
END:VEVENT
BEGIN:VEVENT
DTSTART;VALUE=DATE:20260801
DTEND;VALUE=DATE:20260901
DTSTAMP:20260423T225211
CREATED:20260307T212405Z
LAST-MODIFIED:20260307T212405Z
UID:4551-1785542400-1788220799@therecollective.co
SUMMARY:ReCo Pick: Mixed Mailers with Bonus CDs/DVDs August 2026
DESCRIPTION:Instructions for the August ReCo Pick\nReCo Pick Bag: Mixed Mailers (Padded\, Plastic\, or Bubble Mailers)\n\n\nPlease mailers in the ReCo Pick Bag.\nLearn more →\n\nBonus Item (Bring Your Own Bag – Grocery Bag Size): CDs & DVDs with Cases\n\nPlace CDs and DVDs in your own bag and include it with your pickup.\nLearn more →\n\nREMINDER: Yes\, you can share your bag capacity! Your friends\, family\, and neighbors can add materials to your ReCo bags. The one exception is Batteries and Lightbulbs\, as these are the most complex items for our team to manage. Feel free to share your bag capacity for Plastic Film\, Textiles\, Styrofoam\, ReCo Picks\, and more! Sharing is a great idea\, especially for smaller households. It helps ensure that the most materials are being recycled per pickup\, which benefits everyone and the environment! ReCo Picks are in addition to all the core hard-to-recycle materials we collect on a monthly basis. Download our digital reference guides Need help or have a question\, just email help@therecollective.co
URL:https://therecollective.co/event/reco-pick-mixed-mailers-with-bonus-cds-dvds-august-2026/
ATTACH;FMTTYPE=image/png:https://therecollective.co/wp-content/uploads/2025/01/Mixed-mailers.png
END:VEVENT
BEGIN:VEVENT
DTSTART;VALUE=DATE:20260901
DTEND;VALUE=DATE:20261001
DTSTAMP:20260423T225211
CREATED:20260403T191053Z
LAST-MODIFIED:20260403T191114Z
UID:4642-1788220800-1790812799@therecollective.co
SUMMARY:ReCo Pick: Art & Office Supplies with Bonus Jewelry\, Eyeglasses\, and Lanyards September 2026
DESCRIPTION:Instructions for the September ReCo Pick\nReCo Pick Bag: Art & Office Supplies\n\n\nPlease Art & Office Supplies in the ReCo Pick Bag.\nLearn more →\n\n1-Bonus Item (Bring Your Own Bag – Grocery Bag Size): Jewelry\n\nPlace Jewelry in your own bag and include it with your pickup.\nLearn more →\n\n2-Bonus Item (Bring Your Own Bag – Grocery Bag Size): Eyeglasses\n\nPlace Eyeglasses in your own bag and include it with your pickup.\nLearn more →\n\n3-Bonus Item (Bring Your Own Bag – Grocery Bag Size): Lanyards & name tags\n\nPlace Lanyards in your own bag and include it with your pickup.\nLearn more →\n\nREMINDER: Yes\, you can share your bag capacity! Your friends\, family\, and neighbors can add materials to your ReCo bags. The one exception is Batteries and Lightbulbs\, as these are the most complex items for our team to manage. Feel free to share your bag capacity for Plastic Film\, Textiles\, Styrofoam\, ReCo Picks\, and more! Sharing is a great idea\, especially for smaller households. It helps ensure that the most materials are being recycled per pickup\, which benefits everyone and the environment! ReCo Picks are in addition to all the core hard-to-recycle materials we collect on a monthly basis. Download our digital reference guides Need help or have a question\, just email help@therecollective.co
URL:https://therecollective.co/event/reco-pick-art-office-supplies-with-bonus-jewelry-eyeglasses-and-lanyards-september-2026/
ATTACH;FMTTYPE=image/png:https://therecollective.co/wp-content/uploads/2024/08/T.png
END:VEVENT
END:VCALENDAR