BEGIN:VCALENDAR
VERSION:2.0
PRODID:-//TheRecollective - ECPv6.15.20//NONSGML v1.0//EN
CALSCALE:GREGORIAN
METHOD:PUBLISH
X-WR-CALNAME:TheRecollective
X-ORIGINAL-URL:https://therecollective.co
X-WR-CALDESC:Events for TheRecollective
REFRESH-INTERVAL;VALUE=DURATION:PT1H
X-Robots-Tag:noindex
X-PUBLISHED-TTL:PT1H
BEGIN:VTIMEZONE
TZID:UTC
BEGIN:STANDARD
TZOFFSETFROM:+0000
TZOFFSETTO:+0000
TZNAME:UTC
DTSTART:20240101T000000
END:STANDARD
END:VTIMEZONE
BEGIN:VEVENT
DTSTART;VALUE=DATE:20250101
DTEND;VALUE=DATE:20260101
DTSTAMP:20260423T224934
CREATED:20250508T202500Z
LAST-MODIFIED:20250508T202606Z
UID:3725-1735689600-1767225599@therecollective.co
SUMMARY:Don’t Keep Recycling a Secret—Share the Love
DESCRIPTION:At The ReCollective\, community is everything. Our members make a huge impact by recycling materials like plastic film\, batteries\, textiles\, and composting food scraps—helping keep thousands of pounds of waste out of Triangle-area landfills every month. \nWe need your help to spread the word! Our “Give $10\, Get $10” referral program makes it easy for you to help your friends and neighbors recycle more while earning rewards for yourself. \nHow Does it Work?\nIt’s simple: \n\nYou Give your friends and neighbors $10 off their first month when they sign up.\nYou Get $10 in account credit for every friend who becomes a member. There’s no limit to how many friends you can refer!\n\nThere’s no limit—so the more you refer\, the more you earn! \n\n\n\n\n\nHow to Start Referring:\n\nLog in to your member dashboard.\nGrab your unique referral link in the dropdown top menu bar.\nShare it via text\, email\, social media\, or neighborhood groups.\n\nSample Messages to Share:\nSocial Media: \n“I’ve been using The ReCollective to recycle and compost materials that don’t fit in the curbside bin\, and it’s awesome! Join me and get $10 off your first month. Use my referral link: [Your Referral Link] ♻️🌿” \nText Message: \n“Hey! I started using The ReCollective to recycle stuff like plastic film\, batteries\, and more. Thought you’d be interested—here’s $10 off your first month: [Your Referral Link]” \nEmail or Community Post: \n“Looking for an easy way to recycle and compost beyond what our city picks up? I’ve been using The ReCollective and it’s made a big difference at our house. They pick up hard-to-recycle items monthly right from your doorstep. Use my referral link to get $10 off your first month: [Your Referral Link].” \nWhy Share?\nEvery referral makes a real difference: \n\nYou help neighbors simplify recycling and composting.\nYou reduce waste locally and support sustainable living.\nYou earn savings on your own membership!
URL:https://therecollective.co/event/dont-keep-recycling-a-secret-share-the-love/
ATTACH;FMTTYPE=image/png:https://therecollective.co/wp-content/uploads/2025/05/Referral-2.png
END:VEVENT
BEGIN:VEVENT
DTSTART;VALUE=DATE:20251001
DTEND;VALUE=DATE:20251201
DTSTAMP:20260423T224934
CREATED:20240908T232841Z
LAST-MODIFIED:20240908T233400Z
UID:3090-1759276800-1764547199@therecollective.co
SUMMARY:Batteries
DESCRIPTION:Batteries go in your Batteries/Bulbs Bag
URL:https://therecollective.co/event/batteries/
ATTACH;FMTTYPE=image/png:https://therecollective.co/wp-content/uploads/2024/03/Photo-4_Batteries.png
END:VEVENT
BEGIN:VEVENT
DTSTART;VALUE=DATE:20251101
DTEND;VALUE=DATE:20251201
DTSTAMP:20260423T224934
CREATED:20250313T000552Z
LAST-MODIFIED:20250731T170843Z
UID:3676-1761955200-1764547199@therecollective.co
SUMMARY:ReCo Pick : Non-Perishable Food with Bonus Candy and More November 2025
DESCRIPTION:Instructions for the November ReCo Pick\nMain Material in the ReCo Pick Bag: Non-Perishable Food – Click to Learn More \nBonus Item #1 (Bring Your Own Bag – grocery size or smaller): Wrapped Candy – Click to Learn More \nBonus Item #2 (Bring Your Own Bag – grocery size or smaller): Donate freezer packs\, clean takeout containers\, and insulated grocery bags to help support local food justice organizations (food pantries and community fridges) – Click to Learn More \nREMINDER: Yes\, you can share your bag capacity! Your friends\, family\, and neighbors can add materials to your ReCo bags. The one exception is Batteries and Lightbulbs\, as these are the most complex items for our team to manage. Feel free to share your bag capacity for Plastic Film\, Textiles\, Styrofoam\, ReCo Picks\, and more! Sharing is a great idea\, especially for smaller households. It helps ensure that the most materials are being recycled per pickup\, which benefits everyone and the environment! \nReCo Picks are in addition to all the core materials we collect on a monthly basis. \nNeed help or have a question just email help@therecollective.co
URL:https://therecollective.co/event/reco-pick-non-perishable-food-with-bonus-candy-2025/
ATTACH;FMTTYPE=image/jpeg:https://therecollective.co/wp-content/uploads/2024/08/food-to-be-donated-small-1.jpg
END:VEVENT
END:VCALENDAR