BEGIN:VCALENDAR
VERSION:2.0
PRODID:-//TheRecollective - ECPv6.15.20//NONSGML v1.0//EN
CALSCALE:GREGORIAN
METHOD:PUBLISH
X-ORIGINAL-URL:https://therecollective.co
X-WR-CALDESC:Events for TheRecollective
REFRESH-INTERVAL;VALUE=DURATION:PT1H
X-Robots-Tag:noindex
X-PUBLISHED-TTL:PT1H
BEGIN:VTIMEZONE
TZID:UTC
BEGIN:STANDARD
TZOFFSETFROM:+0000
TZOFFSETTO:+0000
TZNAME:UTC
DTSTART:20230101T000000
END:STANDARD
END:VTIMEZONE
BEGIN:VEVENT
DTSTART;VALUE=DATE:20241001
DTEND;VALUE=DATE:20241201
DTSTAMP:20260424T185946
CREATED:20240505T170526Z
LAST-MODIFIED:20240908T234452Z
UID:2205-1727740800-1733011199@therecollective.co
SUMMARY:Batteries
DESCRIPTION:October and November are Battery months.
URL:https://therecollective.co/event/batteriesq424/
ATTACH;FMTTYPE=image/png:https://therecollective.co/wp-content/uploads/2024/03/Photo-4_Batteries.png
END:VEVENT
BEGIN:VEVENT
DTSTART;VALUE=DATE:20241101
DTEND;VALUE=DATE:20241201
DTSTAMP:20260424T185946
CREATED:20240729T210410Z
LAST-MODIFIED:20240908T234316Z
UID:2559-1730419200-1733011199@therecollective.co
SUMMARY:ReCo Pick : Non-Perishable Food with Bonus Candy & Yard Signs November 2024
DESCRIPTION:Instructions for the November ReCo Pick\nMain Material in the ReCo Pick Bag: Non-Perishable Food – Click to Learn More \nBonus Item #1 (Bring Your Own Bag – grocery size or smaller): Wrapped Candy – Click to Learn More \nBonus Item #2 (Set beside your waterproof black bag): Yard Signs – Click to Learn More \nREMINDER: Yes\, you can share your bag capacity! Your friends\, family\, and neighbors can add materials to your ReCo bags. The one exception is Batteries and Lightbulbs\, as these are the most complex items for our team to manage. Feel free to share your bag capacity for Plastic Film\, Textiles\, Styrofoam\, ReCo Picks\, and more! Sharing is a great idea\, especially for smaller households. It helps ensure that the most materials are being recycled per pickup\, which benefits everyone and the environment! \nReCo Picks are in addition to all the core materials we collect on a monthly basis. \nNeed help or have a question just email help@therecollective.co
URL:https://therecollective.co/event/non-perishable-food-with-bonus-candy-yard-signs/
ATTACH;FMTTYPE=image/jpeg:https://therecollective.co/wp-content/uploads/2024/08/food-to-be-donated-small-1.jpg
END:VEVENT
END:VCALENDAR