BEGIN:VCALENDAR
VERSION:2.0
PRODID:-//TheRecollective - ECPv6.15.20//NONSGML v1.0//EN
CALSCALE:GREGORIAN
METHOD:PUBLISH
X-WR-CALNAME:TheRecollective
X-ORIGINAL-URL:https://therecollective.co
X-WR-CALDESC:Events for TheRecollective
REFRESH-INTERVAL;VALUE=DURATION:PT1H
X-Robots-Tag:noindex
X-PUBLISHED-TTL:PT1H
BEGIN:VTIMEZONE
TZID:UTC
BEGIN:STANDARD
TZOFFSETFROM:+0000
TZOFFSETTO:+0000
TZNAME:UTC
DTSTART:20230101T000000
END:STANDARD
END:VTIMEZONE
BEGIN:VEVENT
DTSTART;VALUE=DATE:20240701
DTEND;VALUE=DATE:20240801
DTSTAMP:20260425T015056
CREATED:20240505T163807Z
LAST-MODIFIED:20240626T213200Z
UID:2190-1719792000-1722470399@therecollective.co
SUMMARY:July 2024: Books with Bonus 6-Pack Can Holders
DESCRIPTION:Give old books a new chapter! The ReCollective partners with Friends of the Durham Library to repurpose new and used books. Please put Books in your ReCo Pick Bag for July. \n✅ What is included?\n-New books\n-Used books in acceptable or better condition\n-Hard cover\n-Soft cover \n❌ What is NOT included?\n-Books without intact covers and bindings.\n-Books with mold\, water\, smoke\, or other damage.\n-Encyclopedias\n-Magazines or other periodicals \nFriends of the Durham Library is an all-volunteer nonprofit that funds programs\, services\, materials for Durham County Libraries\, and scholarships for library staff. The Friends sell donated books\, puzzles\, and games at Books Among Friends\, 3825 South Roxboro Street\, Durham\, NC 27713. Books Among Friends is open online 24/7\, with quarterly in-person sales. \n \nThe ReCollective is taking 4 and 6-pack can holders as a bonus material in July. Place them in your own bag inside the black waterproof bag\, not the canvas ReCo Pick bag. \nWhat is included? 4 and 6-pack can holders and carriers with closed tops\, as shown in the image above. We do not accept those with open tops. \nWhere is it going? Homebucha in Durham will rescue these holders to distribute their kombucha. \nFounded in 2015 on a small farm in the Triangle\, Homebucha produces authentic kombucha inspired by the local food scene and community\, using traditional methods. Now available in over 50 retailers\, Homebucha focuses on sustainability\, producing on a small scale with minimal water use. They ethically source ingredients\, with many from local farms\, and process everything in-house.
URL:https://therecollective.co/event/july-2024-books-with-bonus-6-pack-can-holders/
END:VEVENT
BEGIN:VEVENT
DTSTART;VALUE=DATE:20240701
DTEND;VALUE=DATE:20240901
DTSTAMP:20260425T015056
CREATED:20240505T170203Z
LAST-MODIFIED:20240505T170203Z
UID:2201-1719792000-1725148799@therecollective.co
SUMMARY:Batteries
DESCRIPTION:
URL:https://therecollective.co/event/batteriesq324/
END:VEVENT
END:VCALENDAR